BEGIN:VCALENDAR
VERSION:2.0
PRODID:-//The Ridge - ECPv6.15.20//NONSGML v1.0//EN
CALSCALE:GREGORIAN
METHOD:PUBLISH
X-WR-CALNAME:The Ridge
X-ORIGINAL-URL:https://theridge.littlecovecoffee.com.au
X-WR-CALDESC:Events for The Ridge
REFRESH-INTERVAL;VALUE=DURATION:PT1H
X-Robots-Tag:noindex
X-PUBLISHED-TTL:PT1H
BEGIN:VTIMEZONE
TZID:Australia/Sydney
BEGIN:STANDARD
TZOFFSETFROM:+1100
TZOFFSETTO:+1000
TZNAME:AEST
DTSTART:20250405T160000
END:STANDARD
BEGIN:DAYLIGHT
TZOFFSETFROM:+1000
TZOFFSETTO:+1100
TZNAME:AEDT
DTSTART:20251004T160000
END:DAYLIGHT
BEGIN:STANDARD
TZOFFSETFROM:+1100
TZOFFSETTO:+1000
TZNAME:AEST
DTSTART:20260404T160000
END:STANDARD
BEGIN:DAYLIGHT
TZOFFSETFROM:+1000
TZOFFSETTO:+1100
TZNAME:AEDT
DTSTART:20261003T160000
END:DAYLIGHT
BEGIN:STANDARD
TZOFFSETFROM:+1100
TZOFFSETTO:+1000
TZNAME:AEST
DTSTART:20270403T160000
END:STANDARD
BEGIN:DAYLIGHT
TZOFFSETFROM:+1000
TZOFFSETTO:+1100
TZNAME:AEDT
DTSTART:20271002T160000
END:DAYLIGHT
END:VTIMEZONE
BEGIN:VEVENT
DTSTART;TZID=Australia/Sydney:20260510T070000
DTEND;TZID=Australia/Sydney:20260510T170000
DTSTAMP:20260424T022853
CREATED:20260414T061008Z
LAST-MODIFIED:20260414T061008Z
UID:13844-1778396400-1778432400@theridge.littlecovecoffee.com.au
SUMMARY:Mother's Day
DESCRIPTION:
URL:https://theridge.littlecovecoffee.com.au/event/mothers-day/
LOCATION:The Ridge\, 3 Alba Cl\, Noosa Heads QLD 4567\, Australia\, Noosa Heads\, Queensland\, 4567\, Australia
END:VEVENT
END:VCALENDAR